BEGIN:VCALENDAR
VERSION:2.0
PRODID:-//162.241.217.159//NONSGML kigkonsult.se iCalcreator 2.26.9//
CALSCALE:GREGORIAN
METHOD:PUBLISH
X-FROM-URL:https://kofc10937.org
X-WR-TIMEZONE:America/Denver
BEGIN:VTIMEZONE
TZID:America/Denver
X-LIC-LOCATION:America/Denver
BEGIN:STANDARD
DTSTART:20251102T020000
TZOFFSETFROM:-0600
TZOFFSETTO:-0700
RDATE:20261101T020000
TZNAME:MST
END:STANDARD
BEGIN:DAYLIGHT
DTSTART:20260308T020000
TZOFFSETFROM:-0700
TZOFFSETTO:-0600
RDATE:20270314T020000
TZNAME:MDT
END:DAYLIGHT
END:VTIMEZONE
BEGIN:VEVENT
UID:ai1ec-795600@kofc10937.org
DTSTAMP:20260423T122845Z
CATEGORIES:
CONTACT:
DESCRIPTION:
DTSTART;TZID=America/Denver:20250809T073000
DTEND;TZID=America/Denver:20250809T090000
LOCATION:Pax Christi Room 1
SEQUENCE:0
SUMMARY:Council Meeting
URL:https://kofc10937.org/?ai1ec_event=council-meeting-2
X-COST-TYPE:free
END:VEVENT
BEGIN:VEVENT
UID:ai1ec-795599@kofc10937.org
DTSTAMP:20260423T122845Z
CATEGORIES:
CONTACT:
DESCRIPTION:
DTSTART;TZID=America/Denver:20250809T150000
DTEND;TZID=America/Denver:20250809T210000
LOCATION:Pax Christi Great Hall / Plaza
SEQUENCE:0
SUMMARY:Beer & Brats
URL:https://kofc10937.org/?ai1ec_event=beer-brats
X-COST-TYPE:free
END:VEVENT
BEGIN:VEVENT
UID:ai1ec-795630@kofc10937.org
DTSTAMP:20260423T122845Z
CATEGORIES:
CONTACT:
DESCRIPTION:
DTSTART;TZID=America/Denver:20250823T080000
DTEND;TZID=America/Denver:20250823T120000
LOCATION:meet at church to drive to DIA and back
SEQUENCE:0
SUMMARY:Special Olympics Plane Pull
URL:https://kofc10937.org/?ai1ec_event=plane-pull
X-COST-TYPE:free
END:VEVENT
BEGIN:VEVENT
UID:ai1ec-795631@kofc10937.org
DTSTAMP:20260423T122845Z
CATEGORIES:
CONTACT:
DESCRIPTION:
DTSTART;TZID=America/Denver:20250907T113000
DTEND;TZID=America/Denver:20250907T150000
LOCATION:Pax Christi
SEQUENCE:0
SUMMARY:Church Festival
URL:https://kofc10937.org/?ai1ec_event=church-festival
X-COST-TYPE:free
END:VEVENT
BEGIN:VEVENT
UID:ai1ec-795623@kofc10937.org
DTSTAMP:20260423T122845Z
CATEGORIES:
CONTACT:
DESCRIPTION:
DTSTART;TZID=America/Denver:20250911T183000
DTEND;TZID=America/Denver:20250911T200000
LOCATION:Pax Christi Room 1
SEQUENCE:0
SUMMARY:COR
URL:https://kofc10937.org/?ai1ec_event=cor
X-COST-TYPE:free
END:VEVENT
BEGIN:VEVENT
UID:ai1ec-795602@kofc10937.org
DTSTAMP:20260423T122845Z
CATEGORIES:
CONTACT:
DESCRIPTION:
DTSTART;TZID=America/Denver:20250913T073000
DTEND;TZID=America/Denver:20250913T090000
LOCATION:Pax Christi Room 1
RRULE:FREQ=MONTHLY;UNTIL=20260613T235959Z;BYDAY=2SA
SEQUENCE:0
SUMMARY:Council Meeting
URL:https://kofc10937.org/?ai1ec_event=795602
X-COST-TYPE:free
END:VEVENT
BEGIN:VEVENT
UID:ai1ec-795624@kofc10937.org
DTSTAMP:20260423T122845Z
CATEGORIES:
CONTACT:
DESCRIPTION:
DTSTART;TZID=America/Denver:20250925T183000
DTEND;TZID=America/Denver:20250925T200000
LOCATION:Pax Christi Room 1
SEQUENCE:0
SUMMARY:COR
URL:https://kofc10937.org/?ai1ec_event=cor-2
X-COST-TYPE:free
END:VEVENT
BEGIN:VEVENT
UID:ai1ec-795632@kofc10937.org
DTSTAMP:20260423T122845Z
CATEGORIES:
CONTACT:
DESCRIPTION:<p>Council Golf Tournament</p>
DTSTART;TZID=America/Denver:20250926T070000
DTEND;TZID=America/Denver:20250926T170000
LOCATION:Links Golf Course
SEQUENCE:0
SUMMARY:Council Golf Tournament
URL:https://kofc10937.org/?ai1ec_event=council-golf-tournament
X-COST-TYPE:free
END:VEVENT
BEGIN:VEVENT
UID:ai1ec-795603@kofc10937.org
DTSTAMP:20260423T122845Z
CATEGORIES:
CONTACT:
DESCRIPTION:
DTSTART;TZID=America/Denver:20250928T063000
DTEND;TZID=America/Denver:20250928T123000
LOCATION:Pax Christi Kitchen / Great Hall / Plaza
SEQUENCE:0
SUMMARY:Burritos
URL:https://kofc10937.org/?ai1ec_event=burritos
X-COST-TYPE:free
END:VEVENT
BEGIN:VEVENT
UID:ai1ec-795663@kofc10937.org
DTSTAMP:20260423T122845Z
CATEGORIES:
CONTACT:
DESCRIPTION:
DTSTART;TZID=America/Denver:20250930T183000
DTEND;TZID=America/Denver:20250930T200000
LOCATION:Jason Curl's House @ 1020 Berganot Trail\, Castle Pines\, CO
RRULE:FREQ=MONTHLY;BYDAY=-1TU
SEQUENCE:0
SUMMARY:Council Planning Meeting
URL:https://kofc10937.org/?ai1ec_event=council-planning-meeting
X-COST-TYPE:free
END:VEVENT
BEGIN:VEVENT
UID:ai1ec-795655@kofc10937.org
DTSTAMP:20260423T122845Z
CATEGORIES:
CONTACT:
DESCRIPTION:<p>Airforce vs Navy football game- Colorado Springs</p>
DTSTART;TZID=America/Denver:20251004T090000
DTEND;TZID=America/Denver:20251004T170000
LOCATION:Airforce Stadium in Colorado Springs
SEQUENCE:0
SUMMARY:Airforce / Navy Football Game
URL:https://kofc10937.org/?ai1ec_event=airforce-navy-football-game
X-COST-TYPE:free
END:VEVENT
BEGIN:VEVENT
UID:ai1ec-795625@kofc10937.org
DTSTAMP:20260423T122845Z
CATEGORIES:
CONTACT:
DESCRIPTION:
DTSTART;TZID=America/Denver:20251018T183000
DTEND;TZID=America/Denver:20251018T200000
LOCATION:Pax Christi Room 1
SEQUENCE:0
SUMMARY:COR
URL:https://kofc10937.org/?ai1ec_event=cor-3
X-COST-TYPE:free
END:VEVENT
BEGIN:VEVENT
UID:ai1ec-795626@kofc10937.org
DTSTAMP:20260423T122845Z
CATEGORIES:
CONTACT:
DESCRIPTION:
DTSTART;TZID=America/Denver:20251023T183000
DTEND;TZID=America/Denver:20251023T200000
LOCATION:Pax Christi Room 1
SEQUENCE:0
SUMMARY:COR
URL:https://kofc10937.org/?ai1ec_event=cor-4
X-COST-TYPE:free
END:VEVENT
BEGIN:VEVENT
UID:ai1ec-795604@kofc10937.org
DTSTAMP:20260423T122845Z
CATEGORIES:
CONTACT:
DESCRIPTION:
DTSTART;TZID=America/Denver:20251026T063000
DTEND;TZID=America/Denver:20251026T123000
LOCATION:Pax Christi Kitchen / Great Hall / Plaza
SEQUENCE:0
SUMMARY:Burritos
URL:https://kofc10937.org/?ai1ec_event=burritos-2
X-COST-TYPE:free
END:VEVENT
BEGIN:VEVENT
UID:ai1ec-795633@kofc10937.org
DTSTAMP:20260423T122845Z
CATEGORIES:
CONTACT:
DESCRIPTION:
DTSTART;TZID=America/Denver:20251109T103000
DTEND;TZID=America/Denver:20251109T113000
LOCATION:Pax Christi Church
SEQUENCE:0
SUMMARY:Memorial Mass
URL:https://kofc10937.org/?ai1ec_event=memorial-mass
X-COST-TYPE:free
END:VEVENT
BEGIN:VEVENT
UID:ai1ec-795658@kofc10937.org
DTSTAMP:20260423T122845Z
CATEGORIES:
CONTACT:
DESCRIPTION:
DTSTART;TZID=America/Denver:20251111T170000
DTEND;TZID=America/Denver:20251111T200000
LOCATION:Highlands Ranch Library
SEQUENCE:0
SUMMARY:Veterans Day Ceremony
URL:https://kofc10937.org/?ai1ec_event=veterans-day-ceremony
X-COST-TYPE:free
END:VEVENT
BEGIN:VEVENT
UID:ai1ec-795627@kofc10937.org
DTSTAMP:20260423T122845Z
CATEGORIES:
CONTACT:
DESCRIPTION:
DTSTART;TZID=America/Denver:20251113T183000
DTEND;TZID=America/Denver:20251113T200000
LOCATION:Pax Christi Room 1
SEQUENCE:0
SUMMARY:COR
URL:https://kofc10937.org/?ai1ec_event=cor-5
X-COST-TYPE:free
END:VEVENT
BEGIN:VEVENT
UID:ai1ec-795621@kofc10937.org
DTSTAMP:20260423T122845Z
CATEGORIES:
CONTACT:
DESCRIPTION:
DTSTART;TZID=America/Denver:20251122T070000
DTEND;TZID=America/Denver:20251122T103000
LOCATION:Pax Christi Kitchen / Great Hall / Plaza
SEQUENCE:0
SUMMARY:Thanksgiving Basket Assembly
URL:https://kofc10937.org/?ai1ec_event=thanksgiving-basket-assembly
X-COST-TYPE:free
END:VEVENT
BEGIN:VEVENT
UID:ai1ec-795605@kofc10937.org
DTSTAMP:20260423T122845Z
CATEGORIES:
CONTACT:
DESCRIPTION:
DTSTART;TZID=America/Denver:20251123T063000
DTEND;TZID=America/Denver:20251123T123000
LOCATION:Pax Christi Kitchen / Great Hall / Plaza
SEQUENCE:0
SUMMARY:Burritos
URL:https://kofc10937.org/?ai1ec_event=burritos-3
X-COST-TYPE:free
END:VEVENT
BEGIN:VEVENT
UID:ai1ec-795628@kofc10937.org
DTSTAMP:20260423T122845Z
CATEGORIES:
CONTACT:
DESCRIPTION:
DTSTART;TZID=America/Denver:20251204T183000
DTEND;TZID=America/Denver:20251204T200000
LOCATION:Pax Christi Room 1
SEQUENCE:0
SUMMARY:COR
URL:https://kofc10937.org/?ai1ec_event=cor-6
X-COST-TYPE:free
END:VEVENT
BEGIN:VEVENT
UID:ai1ec-795622@kofc10937.org
DTSTAMP:20260423T122845Z
CATEGORIES:
CONTACT:
DESCRIPTION:
DTSTART;TZID=America/Denver:20251214T150000
DTEND;TZID=America/Denver:20251214T210000
LOCATION:Pax Christi Kitchen / Great Hall
SEQUENCE:0
SUMMARY:Knights Christmas Party
URL:https://kofc10937.org/?ai1ec_event=knights-christmas-party
X-COST-TYPE:free
END:VEVENT
BEGIN:VEVENT
UID:ai1ec-795629@kofc10937.org
DTSTAMP:20260423T122845Z
CATEGORIES:
CONTACT:
DESCRIPTION:
DTSTART;TZID=America/Denver:20251218T183000
DTEND;TZID=America/Denver:20251218T200000
LOCATION:Pax Christi Room 1
SEQUENCE:0
SUMMARY:COR
URL:https://kofc10937.org/?ai1ec_event=cor-7
X-COST-TYPE:free
END:VEVENT
BEGIN:VEVENT
UID:ai1ec-795606@kofc10937.org
DTSTAMP:20260423T122845Z
CATEGORIES:
CONTACT:
DESCRIPTION:
DTSTART;TZID=America/Denver:20251228T063000
DTEND;TZID=America/Denver:20251228T123000
LOCATION:Pax Christi Kitchen / Great Hall / Plaza
SEQUENCE:0
SUMMARY:Burritos
URL:https://kofc10937.org/?ai1ec_event=burritos-4
X-COST-TYPE:free
END:VEVENT
BEGIN:VEVENT
UID:ai1ec-795613@kofc10937.org
DTSTAMP:20260423T122845Z
CATEGORIES:
CONTACT:
DESCRIPTION:
DTSTART;TZID=America/Denver:20260110T110000
DTEND;TZID=America/Denver:20260110T210000
LOCATION:Pax Christi Kitchen / Great Hall
SEQUENCE:0
SUMMARY:Spaghetti Dinner
URL:https://kofc10937.org/?ai1ec_event=spaghetti-dinner-8
X-COST-TYPE:free
END:VEVENT
BEGIN:VEVENT
UID:ai1ec-795607@kofc10937.org
DTSTAMP:20260423T122845Z
CATEGORIES:
CONTACT:
DESCRIPTION:
DTSTART;TZID=America/Denver:20260125T063000
DTEND;TZID=America/Denver:20260125T123000
LOCATION:Pax Christi Kitchen / Great Hall / Plaza
SEQUENCE:0
SUMMARY:Burritos
URL:https://kofc10937.org/?ai1ec_event=burritos-5
X-COST-TYPE:free
END:VEVENT
BEGIN:VEVENT
UID:ai1ec-795615@kofc10937.org
DTSTAMP:20260423T122845Z
CATEGORIES:
CONTACT:
DESCRIPTION:
DTSTART;TZID=America/Denver:20260220T160000
DTEND;TZID=America/Denver:20260220T203000
LOCATION:Pax Christi Kitchen / Great Hall
SEQUENCE:0
SUMMARY:Fish Tacos
URL:https://kofc10937.org/?ai1ec_event=fish-tacos-11
X-COST-TYPE:free
END:VEVENT
BEGIN:VEVENT
UID:ai1ec-795608@kofc10937.org
DTSTAMP:20260423T122845Z
CATEGORIES:
CONTACT:
DESCRIPTION:
DTSTART;TZID=America/Denver:20260222T063000
DTEND;TZID=America/Denver:20260222T123000
LOCATION:Pax Christi Kitchen / Great Hall / Plaza
SEQUENCE:0
SUMMARY:Burritos
URL:https://kofc10937.org/?ai1ec_event=burritos-6
X-COST-TYPE:free
END:VEVENT
BEGIN:VEVENT
UID:ai1ec-795616@kofc10937.org
DTSTAMP:20260423T122845Z
CATEGORIES:
CONTACT:
DESCRIPTION:
DTSTART;TZID=America/Denver:20260227T160000
DTEND;TZID=America/Denver:20260227T203000
LOCATION:Pax Christi Kitchen / Great Hall
SEQUENCE:0
SUMMARY:Fish Tacos
URL:https://kofc10937.org/?ai1ec_event=fish-tacos-12
X-COST-TYPE:free
END:VEVENT
BEGIN:VEVENT
UID:ai1ec-795617@kofc10937.org
DTSTAMP:20260423T122845Z
CATEGORIES:
CONTACT:
DESCRIPTION:
DTSTART;TZID=America/Denver:20260306T160000
DTEND;TZID=America/Denver:20260306T203000
LOCATION:Pax Christi Kitchen / Great Hall
SEQUENCE:0
SUMMARY:Fish Tacos
URL:https://kofc10937.org/?ai1ec_event=fish-tacos-13
X-COST-TYPE:free
END:VEVENT
BEGIN:VEVENT
UID:ai1ec-795618@kofc10937.org
DTSTAMP:20260423T122845Z
CATEGORIES:
CONTACT:
DESCRIPTION:
DTSTART;TZID=America/Denver:20260313T160000
DTEND;TZID=America/Denver:20260313T203000
LOCATION:Pax Christi Kitchen / Great Hall
SEQUENCE:0
SUMMARY:Fish Tacos
URL:https://kofc10937.org/?ai1ec_event=fish-tacos-14
X-COST-TYPE:free
END:VEVENT
BEGIN:VEVENT
UID:ai1ec-795619@kofc10937.org
DTSTAMP:20260423T122845Z
CATEGORIES:
CONTACT:
DESCRIPTION:
DTSTART;TZID=America/Denver:20260320T160000
DTEND;TZID=America/Denver:20260320T203000
LOCATION:Pax Christi Kitchen / Great Hall
SEQUENCE:0
SUMMARY:Fish Tacos
URL:https://kofc10937.org/?ai1ec_event=fish-tacos-15
X-COST-TYPE:free
END:VEVENT
BEGIN:VEVENT
UID:ai1ec-795609@kofc10937.org
DTSTAMP:20260423T122845Z
CATEGORIES:
CONTACT:
DESCRIPTION:
DTSTART;TZID=America/Denver:20260322T063000
DTEND;TZID=America/Denver:20260322T123000
LOCATION:Pax Christi Kitchen / Great Hall / Plaza
SEQUENCE:0
SUMMARY:Burritos
URL:https://kofc10937.org/?ai1ec_event=burritos-7
X-COST-TYPE:free
END:VEVENT
BEGIN:VEVENT
UID:ai1ec-795620@kofc10937.org
DTSTAMP:20260423T122845Z
CATEGORIES:
CONTACT:
DESCRIPTION:
DTSTART;TZID=America/Denver:20260327T160000
DTEND;TZID=America/Denver:20260327T203000
LOCATION:Pax Christi Kitchen / Great Hall
SEQUENCE:0
SUMMARY:Fish Tacos
URL:https://kofc10937.org/?ai1ec_event=fish-tacos-16
X-COST-TYPE:free
END:VEVENT
BEGIN:VEVENT
UID:ai1ec-795610@kofc10937.org
DTSTAMP:20260423T122845Z
CATEGORIES:
CONTACT:
DESCRIPTION:
DTSTART;TZID=America/Denver:20260426T063000
DTEND;TZID=America/Denver:20260426T123000
LOCATION:Pax Christi Kitchen / Great Hall / Plaza
SEQUENCE:0
SUMMARY:Burritos
URL:https://kofc10937.org/?ai1ec_event=burritos-8
X-COST-TYPE:free
END:VEVENT
BEGIN:VEVENT
UID:ai1ec-795614@kofc10937.org
DTSTAMP:20260423T122845Z
CATEGORIES:
CONTACT:
DESCRIPTION:
DTSTART;TZID=America/Denver:20260509T110000
DTEND;TZID=America/Denver:20260509T210000
LOCATION:Pax Christi Kitchen / Great Hall
SEQUENCE:0
SUMMARY:Spaghetti Dinner
URL:https://kofc10937.org/?ai1ec_event=spaghetti-dinner-9
X-COST-TYPE:free
END:VEVENT
BEGIN:VEVENT
UID:ai1ec-795611@kofc10937.org
DTSTAMP:20260423T122845Z
CATEGORIES:
CONTACT:
DESCRIPTION:
DTSTART;TZID=America/Denver:20260524T063000
DTEND;TZID=America/Denver:20260524T123000
LOCATION:Pax Christi Kitchen / Great Hall / Plaza
SEQUENCE:0
SUMMARY:Burritos
URL:https://kofc10937.org/?ai1ec_event=burritos-9
X-COST-TYPE:free
END:VEVENT
BEGIN:VEVENT
UID:ai1ec-795657@kofc10937.org
DTSTAMP:20260423T122845Z
CATEGORIES:
CONTACT:
DESCRIPTION:
DTSTART;TZID=America/Denver:20260525T080000
DTEND;TZID=America/Denver:20260525T120000
LOCATION:Fort Logan
SEQUENCE:0
SUMMARY:Flag Day
URL:https://kofc10937.org/?ai1ec_event=flag-day
X-COST-TYPE:free
END:VEVENT
BEGIN:VEVENT
UID:ai1ec-795601@kofc10937.org
DTSTAMP:20260423T122845Z
CATEGORIES:
CONTACT:
DESCRIPTION:
DTSTART;TZID=America/Denver:20260620T150000
DTEND;TZID=America/Denver:20260620T210000
LOCATION:Pax Christi Great Hall / Plaza
SEQUENCE:0
SUMMARY:Beer & Brats
URL:https://kofc10937.org/?ai1ec_event=beer-brats-2
X-COST-TYPE:free
END:VEVENT
BEGIN:VEVENT
UID:ai1ec-795612@kofc10937.org
DTSTAMP:20260423T122845Z
CATEGORIES:
CONTACT:
DESCRIPTION:
DTSTART;TZID=America/Denver:20260628T063000
DTEND;TZID=America/Denver:20260628T123000
LOCATION:Pax Christi Kitchen / Great Hall / Plaza
SEQUENCE:0
SUMMARY:Burritos
URL:https://kofc10937.org/?ai1ec_event=burritos-10
X-COST-TYPE:free
END:VEVENT
BEGIN:VEVENT
UID:ai1ec-795656@kofc10937.org
DTSTAMP:20260423T122845Z
CATEGORIES:
CONTACT:
DESCRIPTION:
DTSTART;TZID=America/Denver:20260704T080000
DTEND;TZID=America/Denver:20260704T100000
LOCATION:Highlands Ranch
SEQUENCE:0
SUMMARY:Highlands Ranch 4th of July Parade
URL:https://kofc10937.org/?ai1ec_event=highlands-ranch-4th-of-july-parade
X-COST-TYPE:free
END:VEVENT
END:VCALENDAR
